BEGIN:VCALENDAR
VERSION:2.0
PRODID:icalendar-ruby
CALSCALE:GREGORIAN
METHOD:PUBLISH
BEGIN:VEVENT
DTSTAMP:20260423T150908Z
UID:26-3093456@bbcofbowie.com
DTSTART:20261105T010000Z
DTEND:20261105T020000Z
CLASS:PUBLIC
CREATED:20260423T085610
DESCRIPTION:
LAST-MODIFIED:20260423T085610
LOCATION:Church Auditorium
SUMMARY:Wednesday Evening Prayer Service
URL;VALUE=URI:https://bbcofbowie.com/events/wednesday-evening-prayer-servic
 e/2026-11-04
END:VEVENT
END:VCALENDAR
