BEGIN:VCALENDAR
VERSION:2.0
PRODID:icalendar-ruby
CALSCALE:GREGORIAN
METHOD:PUBLISH
BEGIN:VEVENT
DTSTAMP:20260423T135645Z
UID:26-3093455@bbcofbowie.com
DTSTART:20261029T000000Z
DTEND:20261029T010000Z
CLASS:PUBLIC
CREATED:20260423T085610
DESCRIPTION:
LAST-MODIFIED:20260423T085610
LOCATION:Church Auditorium
SUMMARY:Wednesday Evening Prayer Service
URL;VALUE=URI:https://bbcofbowie.com/events/wednesday-evening-prayer-servic
 e/2026-10-28
END:VEVENT
END:VCALENDAR
