BEGIN:VCALENDAR
VERSION:2.0
PRODID:icalendar-ruby
CALSCALE:GREGORIAN
METHOD:PUBLISH
BEGIN:VEVENT
DTSTAMP:20260423T123001Z
UID:26-3091656@bbcofbowie.com
DTSTART:20261022T000000Z
DTEND:20261022T010000Z
CLASS:PUBLIC
CREATED:20260423T060114
DESCRIPTION:
LAST-MODIFIED:20260423T060114
LOCATION:Church Auditorium
SUMMARY:Wednesday Evening Prayer Service
URL;VALUE=URI:https://bbcofbowie.com/events/wednesday-evening-prayer-servic
 e/2026-10-21
END:VEVENT
END:VCALENDAR
