BEGIN:VCALENDAR
VERSION:2.0
PRODID:icalendar-ruby
CALSCALE:GREGORIAN
METHOD:PUBLISH
BEGIN:VEVENT
DTSTAMP:20260423T094031Z
UID:26-3089855@bbcofbowie.com
DTSTART:20261008T000000Z
DTEND:20261008T010000Z
CLASS:PUBLIC
CREATED:20260422T203159
DESCRIPTION:
LAST-MODIFIED:20260422T203159
LOCATION:Church Auditorium
SUMMARY:Wednesday Evening Prayer Service
URL;VALUE=URI:https://bbcofbowie.com/events/wednesday-evening-prayer-servic
 e/2026-10-07
END:VEVENT
END:VCALENDAR
