BEGIN:VCALENDAR
VERSION:2.0
PRODID:icalendar-ruby
CALSCALE:GREGORIAN
METHOD:PUBLISH
BEGIN:VEVENT
DTSTAMP:20260420T234457Z
UID:26-3066505@bbcofbowie.com
DTSTART:20260924T000000Z
DTEND:20260924T010000Z
CLASS:PUBLIC
CREATED:20260420T161345
DESCRIPTION:
LAST-MODIFIED:20260420T161345
LOCATION:Church Auditorium
SUMMARY:Wednesday Evening Prayer Service
URL;VALUE=URI:https://bbcofbowie.com/events/wednesday-evening-prayer-servic
 e/2026-09-23
END:VEVENT
END:VCALENDAR
