BEGIN:VCALENDAR
VERSION:2.0
PRODID:icalendar-ruby
CALSCALE:GREGORIAN
METHOD:PUBLISH
BEGIN:VEVENT
DTSTAMP:20260423T193304Z
UID:23-3094343@bbcofbowie.com
DTSTART:20261101T160000Z
DTEND:20261101T164500Z
CLASS:PUBLIC
CREATED:20260423T114944
DESCRIPTION:
LAST-MODIFIED:20260423T114944
LOCATION:
SUMMARY:Sunday School
URL;VALUE=URI:https://bbcofbowie.com/events/sunday-school/2026-11-01
END:VEVENT
END:VCALENDAR
