BEGIN:VCALENDAR
VERSION:2.0
PRODID:icalendar-ruby
CALSCALE:GREGORIAN
METHOD:PUBLISH
BEGIN:VEVENT
DTSTAMP:20260423T165158Z
UID:23-3094341@bbcofbowie.com
DTSTART:20261018T150000Z
DTEND:20261018T154500Z
CLASS:PUBLIC
CREATED:20260423T114944
DESCRIPTION:
LAST-MODIFIED:20260423T114944
LOCATION:
SUMMARY:Sunday School
URL;VALUE=URI:https://bbcofbowie.com/events/sunday-school/2026-10-18
END:VEVENT
END:VCALENDAR
