BEGIN:VCALENDAR
VERSION:2.0
PRODID:icalendar-ruby
CALSCALE:GREGORIAN
METHOD:PUBLISH
BEGIN:VEVENT
DTSTAMP:20260423T094122Z
UID:23-3088941@bbcofbowie.com
DTSTART:20260913T150000Z
DTEND:20260913T154500Z
CLASS:PUBLIC
CREATED:20260422T203158
DESCRIPTION:
LAST-MODIFIED:20260422T203158
LOCATION:
SUMMARY:Sunday School
URL;VALUE=URI:https://bbcofbowie.com/events/sunday-school/2026-09-13
END:VEVENT
END:VCALENDAR
