BEGIN:VCALENDAR
VERSION:2.0
PRODID:icalendar-ruby
CALSCALE:GREGORIAN
METHOD:PUBLISH
BEGIN:VEVENT
DTSTAMP:20260420T233638Z
UID:23-3065591@bbcofbowie.com
DTSTART:20260830T150000Z
DTEND:20260830T154500Z
CLASS:PUBLIC
CREATED:20260420T161343
DESCRIPTION:
LAST-MODIFIED:20260420T161343
LOCATION:
SUMMARY:Sunday School
URL;VALUE=URI:https://bbcofbowie.com/events/sunday-school/2026-08-30
END:VEVENT
END:VCALENDAR
