BEGIN:VCALENDAR
VERSION:2.0
PRODID:icalendar-ruby
CALSCALE:GREGORIAN
METHOD:PUBLISH
BEGIN:VEVENT
DTSTAMP:20260420T191325Z
UID:23-3063792@bbcofbowie.com
DTSTART:20260809T150000Z
DTEND:20260809T154500Z
CLASS:PUBLIC
CREATED:20260420T133739
DESCRIPTION:
LAST-MODIFIED:20260420T133739
LOCATION:
SUMMARY:Sunday School
URL;VALUE=URI:https://bbcofbowie.com/events/sunday-school/2026-08-09
END:VEVENT
END:VCALENDAR
