BEGIN:VCALENDAR
VERSION:2.0
PRODID:icalendar-ruby
CALSCALE:GREGORIAN
METHOD:PUBLISH
BEGIN:VEVENT
DTSTAMP:20260420T134143Z
UID:23-3060199@bbcofbowie.com
DTSTART:20260802T150000Z
DTEND:20260802T154500Z
CLASS:PUBLIC
CREATED:20260420T082929
DESCRIPTION:
LAST-MODIFIED:20260420T082929
LOCATION:
SUMMARY:Sunday School
URL;VALUE=URI:https://bbcofbowie.com/events/sunday-school/2026-08-02
END:VEVENT
END:VCALENDAR
