BEGIN:VCALENDAR
VERSION:2.0
PRODID:icalendar-ruby
CALSCALE:GREGORIAN
METHOD:PUBLISH
BEGIN:VEVENT
DTSTAMP:20260420T122021Z
UID:23-3058402@bbcofbowie.com
DTSTART:20260726T150000Z
DTEND:20260726T154500Z
CLASS:PUBLIC
CREATED:20260420T055347
DESCRIPTION:
LAST-MODIFIED:20260420T055347
LOCATION:
SUMMARY:Sunday School
URL;VALUE=URI:https://bbcofbowie.com/events/sunday-school/2026-07-26
END:VEVENT
END:VCALENDAR
