BEGIN:VCALENDAR
VERSION:2.0
PRODID:icalendar-ruby
CALSCALE:GREGORIAN
METHOD:PUBLISH
BEGIN:VEVENT
DTSTAMP:20260425T110550Z
UID:24-3112625@bbcofbowie.com
DTSTART:20261025T230000Z
DTEND:20261026T000000Z
CLASS:PUBLIC
CREATED:20260425T055650
DESCRIPTION:
LAST-MODIFIED:20260425T055650
LOCATION:Church Auditorium
SUMMARY:Sunday Evening Service
URL;VALUE=URI:https://bbcofbowie.com/events/sunday-evening-service/2026-10-
 25
END:VEVENT
END:VCALENDAR
