BEGIN:VCALENDAR
VERSION:2.0
PRODID:icalendar-ruby
CALSCALE:GREGORIAN
METHOD:PUBLISH
BEGIN:VEVENT
DTSTAMP:20260423T111129Z
UID:24-3091047@bbcofbowie.com
DTSTART:20261011T230000Z
DTEND:20261012T000000Z
CLASS:PUBLIC
CREATED:20260423T060113
DESCRIPTION:
LAST-MODIFIED:20260423T060113
LOCATION:Church Auditorium
SUMMARY:Sunday Evening Service
URL;VALUE=URI:https://bbcofbowie.com/events/sunday-evening-service/2026-10-
 11
END:VEVENT
END:VCALENDAR
