BEGIN:VCALENDAR
VERSION:2.0
PRODID:icalendar-ruby
CALSCALE:GREGORIAN
METHOD:PUBLISH
BEGIN:VEVENT
DTSTAMP:20260423T094632Z
UID:24-3089247@bbcofbowie.com
DTSTART:20261004T230000Z
DTEND:20261005T000000Z
CLASS:PUBLIC
CREATED:20260422T203158
DESCRIPTION:
LAST-MODIFIED:20260422T203158
LOCATION:Church Auditorium
SUMMARY:Sunday Evening Service
URL;VALUE=URI:https://bbcofbowie.com/events/sunday-evening-service/2026-10-
 04
END:VEVENT
END:VCALENDAR
