BEGIN:VCALENDAR
VERSION:2.0
PRODID:icalendar-ruby
CALSCALE:GREGORIAN
METHOD:PUBLISH
BEGIN:VEVENT
DTSTAMP:20260421T000725Z
UID:24-3067693@bbcofbowie.com
DTSTART:20260920T230000Z
DTEND:20260921T000000Z
CLASS:PUBLIC
CREATED:20260420T184845
DESCRIPTION:
LAST-MODIFIED:20260420T184845
LOCATION:Church Auditorium
SUMMARY:Sunday Evening Service
URL;VALUE=URI:https://bbcofbowie.com/events/sunday-evening-service/2026-09-
 20
END:VEVENT
END:VCALENDAR
